Package: hypeR Version: 2.5.0 Command: E:\biocbuild\bbs-3.21-bioc\R\bin\R.exe CMD INSTALL hypeR StartedAt: 2025-02-09 16:04:15 -0500 (Sun, 09 Feb 2025) EndedAt: 2025-02-09 16:04:47 -0500 (Sun, 09 Feb 2025) EllapsedTime: 31.9 seconds RetCode: 0 Status: OK