Package: hyperdraw Version: 1.59.0 Command: rm -rf hyperdraw.buildbin-libdir && mkdir hyperdraw.buildbin-libdir && /Users/biocbuild/BBS/utils/build-universal.sh hyperdraw_1.59.0.tar.gz /Library/Frameworks/R.framework/Resources/bin/R hyperdraw.buildbin-libdir StartedAt: 2025-02-09 22:17:39 -0500 (Sun, 09 Feb 2025) EndedAt: 2025-02-09 22:17:42 -0500 (Sun, 09 Feb 2025) EllapsedTime: 3.1 seconds RetCode: 0 Status: OK PackageFile: hyperdraw_1.59.0.tgz PackageFileSize: 391 KiB