Package: hyperdraw Version: 1.59.0 Command: /Library/Frameworks/R.framework/Resources/bin/R CMD check --install=check:hyperdraw.install-out.txt --library=/Library/Frameworks/R.framework/Resources/library --no-vignettes --timings hyperdraw_1.59.0.tar.gz StartedAt: 2025-02-12 21:08:06 -0500 (Wed, 12 Feb 2025) EndedAt: 2025-02-12 21:08:47 -0500 (Wed, 12 Feb 2025) EllapsedTime: 41.6 seconds RetCode: 0 Status: OK CheckDir: hyperdraw.Rcheck Warnings: 0