Package: hyperdraw Version: 1.59.0 Command: chmod a+r hyperdraw -R && E:\biocbuild\bbs-3.21-bioc\R\bin\R.exe CMD build --keep-empty-dirs --no-resave-data hyperdraw StartedAt: 2025-02-12 19:22:49 -0500 (Wed, 12 Feb 2025) EndedAt: 2025-02-12 19:23:10 -0500 (Wed, 12 Feb 2025) EllapsedTime: 20.8 seconds RetCode: 0 Status: OK PackageFile: hyperdraw_1.59.0.tar.gz PackageFileSize: 89.27 KiB