Package: hyperdraw Version: 1.59.0 Command: E:\biocbuild\bbs-3.21-bioc\R\bin\R.exe CMD INSTALL hyperdraw StartedAt: 2025-02-12 15:50:58 -0500 (Wed, 12 Feb 2025) EndedAt: 2025-02-12 15:51:23 -0500 (Wed, 12 Feb 2025) EllapsedTime: 24.7 seconds RetCode: 0 Status: OK