Package: hypergraph Version: 1.79.0 Command: rm -rf hypergraph.buildbin-libdir && mkdir hypergraph.buildbin-libdir && E:\biocbuild\bbs-3.21-bioc\R\bin\R.exe CMD INSTALL --build --library=hypergraph.buildbin-libdir hypergraph_1.79.0.tar.gz StartedAt: 2025-02-10 07:56:38 -0500 (Mon, 10 Feb 2025) EndedAt: 2025-02-10 07:56:59 -0500 (Mon, 10 Feb 2025) EllapsedTime: 21.3 seconds RetCode: 0 Status: OK PackageFile: hypergraph_1.79.0.zip PackageFileSize: 170.8 KiB