Package: hypergraph Version: 1.79.0 Command: chmod a+r hypergraph -R && E:\biocbuild\bbs-3.21-bioc\R\bin\R.exe CMD build --keep-empty-dirs --no-resave-data hypergraph StartedAt: 2025-02-09 19:17:59 -0500 (Sun, 09 Feb 2025) EndedAt: 2025-02-09 19:18:01 -0500 (Sun, 09 Feb 2025) EllapsedTime: 2.0 seconds RetCode: 0 Status: OK PackageFile: hypergraph_1.79.0.tar.gz PackageFileSize: 8.271 KiB