Package: hypergraph Version: 1.79.0 Command: E:\biocbuild\bbs-3.21-bioc\R\bin\R.exe CMD check --no-multiarch --install=check:hypergraph.install-out.txt --library=E:\biocbuild\bbs-3.21-bioc\R\library --no-vignettes --timings hypergraph_1.79.0.tar.gz StartedAt: 2025-02-10 02:01:38 -0500 (Mon, 10 Feb 2025) EndedAt: 2025-02-10 02:02:14 -0500 (Mon, 10 Feb 2025) EllapsedTime: 36.3 seconds RetCode: 0 Status: OK CheckDir: hypergraph.Rcheck Warnings: 0