Package: iASeq Version: 1.51.0 Command: /Library/Frameworks/R.framework/Resources/bin/R CMD check --install=check:iASeq.install-out.txt --library=/Library/Frameworks/R.framework/Resources/library --no-vignettes --timings iASeq_1.51.0.tar.gz StartedAt: 2025-02-12 19:44:47 -0500 (Wed, 12 Feb 2025) EndedAt: 2025-02-12 19:44:59 -0500 (Wed, 12 Feb 2025) EllapsedTime: 12.1 seconds RetCode: 0 Status: OK CheckDir: iASeq.Rcheck Warnings: 0