Package: iASeq Version: 1.51.0 Command: /home/biocbuild/R/R/bin/R CMD check --install=check:iASeq.install-out.txt --library=/home/biocbuild/R/R/site-library --no-vignettes --timings iASeq_1.51.0.tar.gz StartedAt: 2025-01-28 11:34:42 -0000 (Tue, 28 Jan 2025) EndedAt: 2025-01-28 11:35:02 -0000 (Tue, 28 Jan 2025) EllapsedTime: 20.0 seconds RetCode: 0 Status: OK CheckDir: iASeq.Rcheck Warnings: 0