Package: iASeq Version: 1.51.0 Command: /home/biocbuild/R/R/bin/R CMD INSTALL iASeq StartedAt: 2025-01-29 20:37:25 -0000 (Wed, 29 Jan 2025) EndedAt: 2025-01-29 20:37:28 -0000 (Wed, 29 Jan 2025) EllapsedTime: 3.0 seconds RetCode: 0 Status: OK