Package: iASeq Version: 1.51.0 Command: rm -rf iASeq.buildbin-libdir && mkdir iASeq.buildbin-libdir && /Users/biocbuild/BBS/utils/build-universal.sh iASeq_1.51.0.tar.gz /Library/Frameworks/R.framework/Resources/bin/R iASeq.buildbin-libdir StartedAt: 2025-02-10 00:58:13 -0500 (Mon, 10 Feb 2025) EndedAt: 2025-02-10 00:58:20 -0500 (Mon, 10 Feb 2025) EllapsedTime: 7.0 seconds RetCode: 0 Status: OK PackageFile: iASeq_1.51.0.tgz PackageFileSize: 254.2 KiB