Package: iASeq Version: 1.51.0 Command: /home/biocbuild/bbs-3.21-bioc/R/bin/R CMD build --keep-empty-dirs --no-resave-data iASeq StartedAt: 2025-02-12 17:38:05 -0500 (Wed, 12 Feb 2025) EndedAt: 2025-02-12 17:38:13 -0500 (Wed, 12 Feb 2025) EllapsedTime: 8.0 seconds RetCode: 0 Status: OK PackageFile: iASeq_1.51.0.tar.gz PackageFileSize: 205.5 KiB