Package: iASeq Version: 1.51.0 Command: chmod a+r iASeq -R && E:\biocbuild\bbs-3.21-bioc\R\bin\R.exe CMD build --keep-empty-dirs --no-resave-data iASeq StartedAt: 2025-02-09 19:18:01 -0500 (Sun, 09 Feb 2025) EndedAt: 2025-02-09 19:18:13 -0500 (Sun, 09 Feb 2025) EllapsedTime: 11.5 seconds RetCode: 0 Status: OK PackageFile: iASeq_1.51.0.tar.gz PackageFileSize: 112.6 KiB