Package: iASeq Version: 1.51.0 Command: E:\biocbuild\bbs-3.21-bioc\R\bin\R.exe CMD INSTALL iASeq StartedAt: 2025-02-09 17:00:05 -0500 (Sun, 09 Feb 2025) EndedAt: 2025-02-09 17:00:11 -0500 (Sun, 09 Feb 2025) EllapsedTime: 6.2 seconds RetCode: 0 Status: OK