Package: iBBiG Version: 1.51.0 Maintainer: Aedin Culhane MaintainerEmail: aedin at jimmy.harvard.edu git_url: https://git.bioconductor.org/packages/iBBiG git_branch: devel git_last_commit: 370a007 git_last_commit_date: 2024-10-29 09:40:45 -0500 (Tue, 29 Oct 2024)