Package: iBBiG Version: 1.51.0 Command: rm -rf iBBiG.buildbin-libdir && mkdir iBBiG.buildbin-libdir && /Users/biocbuild/BBS/utils/build-universal.sh iBBiG_1.51.0.tar.gz /Library/Frameworks/R.framework/Resources/bin/R iBBiG.buildbin-libdir StartedAt: 2025-02-09 22:17:42 -0500 (Sun, 09 Feb 2025) EndedAt: 2025-02-09 22:17:46 -0500 (Sun, 09 Feb 2025) EllapsedTime: 4.1 seconds RetCode: 0 Status: OK PackageFile: iBBiG_1.51.0.tgz PackageFileSize: 1.09 MiB