Package: iBBiG Version: 1.51.0 Command: /Library/Frameworks/R.framework/Resources/bin/R CMD check --install=check:iBBiG.install-out.txt --library=/Library/Frameworks/R.framework/Resources/library --no-vignettes --timings iBBiG_1.51.0.tar.gz StartedAt: 2025-02-12 19:44:59 -0500 (Wed, 12 Feb 2025) EndedAt: 2025-02-12 19:45:47 -0500 (Wed, 12 Feb 2025) EllapsedTime: 47.6 seconds RetCode: 0 Status: OK CheckDir: iBBiG.Rcheck Warnings: 0