Package: iBBiG Version: 1.51.0 Command: /Library/Frameworks/R.framework/Resources/bin/R CMD check --install=check:iBBiG.install-out.txt --library=/Library/Frameworks/R.framework/Resources/library --no-vignettes --timings iBBiG_1.51.0.tar.gz StartedAt: 2025-02-09 21:20:53 -0500 (Sun, 09 Feb 2025) EndedAt: 2025-02-09 21:22:49 -0500 (Sun, 09 Feb 2025) EllapsedTime: 115.2 seconds RetCode: 0 Status: OK CheckDir: iBBiG.Rcheck Warnings: 0