Package: iBBiG Version: 1.51.0 Command: E:\biocbuild\bbs-3.21-bioc\R\bin\R.exe CMD INSTALL iBBiG StartedAt: 2025-02-09 16:02:53 -0500 (Sun, 09 Feb 2025) EndedAt: 2025-02-09 16:03:19 -0500 (Sun, 09 Feb 2025) EllapsedTime: 25.9 seconds RetCode: 0 Status: OK