Package: iBMQ Version: 1.47.0 Command: /home/biocbuild/R/R/bin/R CMD build --keep-empty-dirs --no-resave-data iBMQ StartedAt: 2025-01-28 23:40:43 -0000 (Tue, 28 Jan 2025) EndedAt: 2025-01-28 23:41:16 -0000 (Tue, 28 Jan 2025) EllapsedTime: 33.0 seconds RetCode: 0 Status: OK PackageFile: iBMQ_1.47.0.tar.gz PackageFileSize: 3.979 MiB