Package: iBMQ Version: 1.47.0 Command: /home/biocbuild/bbs-3.21-bioc/R/bin/R CMD build --keep-empty-dirs --no-resave-data iBMQ StartedAt: 2025-02-09 17:41:39 -0500 (Sun, 09 Feb 2025) EndedAt: 2025-02-09 17:42:03 -0500 (Sun, 09 Feb 2025) EllapsedTime: 24.1 seconds RetCode: 0 Status: OK PackageFile: iBMQ_1.47.0.tar.gz PackageFileSize: 3.984 MiB