Package: iBMQ Version: 1.47.0 Command: /home/biocbuild/bbs-3.21-bioc/R/bin/R CMD check --install=check:iBMQ.install-out.txt --library=/home/biocbuild/bbs-3.21-bioc/R/site-library --timings iBMQ_1.47.0.tar.gz StartedAt: 2025-02-09 23:15:05 -0500 (Sun, 09 Feb 2025) EndedAt: 2025-02-09 23:15:57 -0500 (Sun, 09 Feb 2025) EllapsedTime: 51.1 seconds RetCode: 0 Status: OK CheckDir: iBMQ.Rcheck Warnings: 0