Package: iCARE Version: 1.35.0 Command: /Library/Frameworks/R.framework/Resources/bin/R CMD build --keep-empty-dirs --no-resave-data iCARE StartedAt: 2025-02-04 16:39:15 -0500 (Tue, 04 Feb 2025) EndedAt: 2025-02-04 16:40:53 -0500 (Tue, 04 Feb 2025) EllapsedTime: 98.0 seconds RetCode: 0 Status: OK PackageFile: iCARE_1.35.0.tar.gz PackageFileSize: 1.42 MiB