Package: iCARE Version: 1.35.0 Command: /home/biocbuild/R/R/bin/R CMD build --keep-empty-dirs --no-resave-data iCARE StartedAt: 2025-01-28 23:40:44 -0000 (Tue, 28 Jan 2025) EndedAt: 2025-01-28 23:49:11 -0000 (Tue, 28 Jan 2025) EllapsedTime: 506.3 seconds RetCode: 0 Status: OK PackageFile: iCARE_1.35.0.tar.gz PackageFileSize: 1.41 MiB