Package: iCARE Version: 1.35.0 Command: /Library/Frameworks/R.framework/Resources/bin/R CMD INSTALL iCARE StartedAt: 2025-02-09 15:27:32 -0500 (Sun, 09 Feb 2025) EndedAt: 2025-02-09 15:27:43 -0500 (Sun, 09 Feb 2025) EllapsedTime: 10.9 seconds RetCode: 0 Status: OK