Package: iCARE Version: 1.35.0 Command: /home/biocbuild/bbs-3.21-bioc/R/bin/R CMD build --keep-empty-dirs --no-resave-data iCARE StartedAt: 2025-02-03 17:49:56 -0500 (Mon, 03 Feb 2025) EndedAt: 2025-02-03 17:53:18 -0500 (Mon, 03 Feb 2025) EllapsedTime: 201.3 seconds RetCode: 0 Status: OK PackageFile: iCARE_1.35.0.tar.gz PackageFileSize: 1.421 MiB