Package: iCARE Version: 1.35.0 Command: /home/biocbuild/bbs-3.21-bioc/R/bin/R CMD INSTALL iCARE StartedAt: 2025-02-09 15:08:50 -0500 (Sun, 09 Feb 2025) EndedAt: 2025-02-09 15:09:01 -0500 (Sun, 09 Feb 2025) EllapsedTime: 10.8 seconds RetCode: 0 Status: OK