Package: iCARE Version: 1.35.0 Command: rm -rf iCARE.buildbin-libdir && mkdir iCARE.buildbin-libdir && E:\biocbuild\bbs-3.21-bioc\R\bin\R.exe CMD INSTALL --build --library=iCARE.buildbin-libdir iCARE_1.35.0.tar.gz StartedAt: 2025-02-10 07:56:50 -0500 (Mon, 10 Feb 2025) EndedAt: 2025-02-10 07:57:08 -0500 (Mon, 10 Feb 2025) EllapsedTime: 18.2 seconds RetCode: 0 Status: OK PackageFile: iCARE_1.35.0.zip PackageFileSize: 1.347 MiB