Package: iCARE Version: 1.35.0 Command: E:\biocbuild\bbs-3.21-bioc\R\bin\R.exe CMD INSTALL iCARE StartedAt: 2025-02-09 15:50:09 -0500 (Sun, 09 Feb 2025) EndedAt: 2025-02-09 15:50:44 -0500 (Sun, 09 Feb 2025) EllapsedTime: 35.3 seconds RetCode: 0 Status: OK