Package: iCNV Version: 1.27.0 Maintainer: Zilu Zhou MaintainerEmail: zhouzilu at pennmedicine.upenn.edu git_url: https://git.bioconductor.org/packages/iCNV git_branch: devel git_last_commit: 3beaddb git_last_commit_date: 2024-10-29 10:26:36 -0500 (Tue, 29 Oct 2024)