Package: iCNV Version: 1.27.0 Command: /Library/Frameworks/R.framework/Resources/bin/R CMD INSTALL iCNV StartedAt: 2025-02-04 15:10:55 -0500 (Tue, 04 Feb 2025) EndedAt: 2025-02-04 15:11:08 -0500 (Tue, 04 Feb 2025) EllapsedTime: 13.5 seconds RetCode: 0 Status: OK