Package: iCNV Version: 1.27.0 Command: /home/biocbuild/R/R/bin/R CMD build --keep-empty-dirs --no-resave-data iCNV StartedAt: 2025-01-28 23:41:18 -0000 (Tue, 28 Jan 2025) EndedAt: 2025-01-28 23:44:29 -0000 (Tue, 28 Jan 2025) EllapsedTime: 190.2 seconds RetCode: 0 Status: OK PackageFile: iCNV_1.27.0.tar.gz PackageFileSize: 1.781 MiB