Package: iCNV Version: 1.27.0 Command: rm -rf iCNV.buildbin-libdir && mkdir iCNV.buildbin-libdir && /Users/biocbuild/BBS/utils/build-universal.sh iCNV_1.27.0.tar.gz /Library/Frameworks/R.framework/Resources/bin/R iCNV.buildbin-libdir StartedAt: 2025-02-10 00:58:20 -0500 (Mon, 10 Feb 2025) EndedAt: 2025-02-10 00:59:10 -0500 (Mon, 10 Feb 2025) EllapsedTime: 50.0 seconds RetCode: 0 Status: OK PackageFile: iCNV_1.27.0.tgz PackageFileSize: 2.43 MiB