Package: iCNV Version: 1.27.0 Command: /Library/Frameworks/R.framework/Resources/bin/R CMD build --keep-empty-dirs --no-resave-data iCNV StartedAt: 2025-02-09 17:07:31 -0500 (Sun, 09 Feb 2025) EndedAt: 2025-02-09 17:10:15 -0500 (Sun, 09 Feb 2025) EllapsedTime: 163.6 seconds RetCode: 0 Status: OK PackageFile: iCNV_1.27.0.tar.gz PackageFileSize: 2.36 MiB