Package: iCNV Version: 1.27.0 Command: /Library/Frameworks/R.framework/Resources/bin/R CMD INSTALL iCNV StartedAt: 2025-02-09 15:20:21 -0500 (Sun, 09 Feb 2025) EndedAt: 2025-02-09 15:21:07 -0500 (Sun, 09 Feb 2025) EllapsedTime: 45.7 seconds RetCode: 0 Status: OK