Package: iCNV Version: 1.27.0 Command: rm -rf iCNV.buildbin-libdir && mkdir iCNV.buildbin-libdir && E:\biocbuild\bbs-3.21-bioc\R\bin\R.exe CMD INSTALL --build --library=iCNV.buildbin-libdir iCNV_1.27.0.tar.gz StartedAt: 2025-02-04 08:10:25 -0500 (Tue, 04 Feb 2025) EndedAt: 2025-02-04 08:12:58 -0500 (Tue, 04 Feb 2025) EllapsedTime: 153.3 seconds RetCode: 0 Status: OK PackageFile: iCNV_1.27.0.zip PackageFileSize: 1.896 MiB