Package: iCNV Version: 1.27.0 Command: chmod a+r iCNV -R && E:\biocbuild\bbs-3.21-bioc\R\bin\R.exe CMD build --keep-empty-dirs --no-resave-data iCNV StartedAt: 2025-02-09 19:18:54 -0500 (Sun, 09 Feb 2025) EndedAt: 2025-02-09 19:23:09 -0500 (Sun, 09 Feb 2025) EllapsedTime: 255.5 seconds RetCode: 0 Status: OK PackageFile: iCNV_1.27.0.tar.gz PackageFileSize: 1.765 MiB