Package: iNETgrate Version: 1.5.0 Command: rm -rf iNETgrate.buildbin-libdir && mkdir iNETgrate.buildbin-libdir && /Users/biocbuild/BBS/utils/build-universal.sh iNETgrate_1.5.0.tar.gz /Library/Frameworks/R.framework/Resources/bin/R iNETgrate.buildbin-libdir StartedAt: 2025-02-09 22:18:03 -0500 (Sun, 09 Feb 2025) EndedAt: 2025-02-09 22:18:31 -0500 (Sun, 09 Feb 2025) EllapsedTime: 28.5 seconds RetCode: 0 Status: OK PackageFile: iNETgrate_1.5.0.tgz PackageFileSize: 4.197 MiB