Package: iNETgrate Version: 1.5.0 Command: /Library/Frameworks/R.framework/Resources/bin/R CMD INSTALL iNETgrate StartedAt: 2025-02-09 15:27:06 -0500 (Sun, 09 Feb 2025) EndedAt: 2025-02-09 15:27:31 -0500 (Sun, 09 Feb 2025) EllapsedTime: 25.5 seconds RetCode: 0 Status: OK