Package: iNETgrate Version: 1.5.0 Command: /Library/Frameworks/R.framework/Resources/bin/R CMD INSTALL iNETgrate StartedAt: 2025-02-12 15:42:18 -0500 (Wed, 12 Feb 2025) EndedAt: 2025-02-12 15:43:42 -0500 (Wed, 12 Feb 2025) EllapsedTime: 84.0 seconds RetCode: 0 Status: OK