Package: iNETgrate Version: 1.5.0 Command: /home/biocbuild/bbs-3.21-bioc/R/bin/R CMD build --keep-empty-dirs --no-resave-data iNETgrate StartedAt: 2025-02-09 17:44:26 -0500 (Sun, 09 Feb 2025) EndedAt: 2025-02-09 17:48:11 -0500 (Sun, 09 Feb 2025) EllapsedTime: 225.2 seconds RetCode: 0 Status: OK PackageFile: iNETgrate_1.5.0.tar.gz PackageFileSize: 3.979 MiB