Package: iNETgrate Version: 1.5.0 Command: rm -rf iNETgrate.buildbin-libdir && mkdir iNETgrate.buildbin-libdir && E:\biocbuild\bbs-3.21-bioc\R\bin\R.exe CMD INSTALL --build --library=iNETgrate.buildbin-libdir iNETgrate_1.5.0.tar.gz StartedAt: 2025-02-10 07:58:00 -0500 (Mon, 10 Feb 2025) EndedAt: 2025-02-10 07:59:26 -0500 (Mon, 10 Feb 2025) EllapsedTime: 86.8 seconds RetCode: 0 Status: OK PackageFile: iNETgrate_1.5.0.zip PackageFileSize: 4.2 MiB