Package: iNETgrate Version: 1.5.0 Command: chmod a+r iNETgrate -R && E:\biocbuild\bbs-3.21-bioc\R\bin\R.exe CMD build --keep-empty-dirs --no-resave-data iNETgrate StartedAt: 2025-02-09 19:23:03 -0500 (Sun, 09 Feb 2025) EndedAt: 2025-02-09 19:28:24 -0500 (Sun, 09 Feb 2025) EllapsedTime: 320.7 seconds RetCode: 0 Status: OK PackageFile: iNETgrate_1.5.0.tar.gz PackageFileSize: 3.98 MiB