Package: iNETgrate Version: 1.5.0 Command: E:\biocbuild\bbs-3.21-bioc\R\bin\R.exe CMD check --no-multiarch --install=check:iNETgrate.install-out.txt --library=E:\biocbuild\bbs-3.21-bioc\R\library --no-vignettes --timings iNETgrate_1.5.0.tar.gz StartedAt: 2025-02-10 02:05:54 -0500 (Mon, 10 Feb 2025) EndedAt: 2025-02-10 02:23:12 -0500 (Mon, 10 Feb 2025) EllapsedTime: 1037.5 seconds RetCode: 0 Status: OK CheckDir: iNETgrate.Rcheck Warnings: 0