Package: iPAC Version: 1.51.0 Command: /Library/Frameworks/R.framework/Resources/bin/R CMD INSTALL iPAC StartedAt: 2025-02-12 15:22:04 -0500 (Wed, 12 Feb 2025) EndedAt: 2025-02-12 15:22:09 -0500 (Wed, 12 Feb 2025) EllapsedTime: 5.7 seconds RetCode: 0 Status: OK