Package: iPAC Version: 1.51.0 Command: /home/biocbuild/R/R/bin/R CMD check --install=check:iPAC.install-out.txt --library=/home/biocbuild/R/R/site-library --no-vignettes --timings iPAC_1.51.0.tar.gz StartedAt: 2025-01-28 11:41:39 -0000 (Tue, 28 Jan 2025) EndedAt: 2025-01-28 11:47:05 -0000 (Tue, 28 Jan 2025) EllapsedTime: 326.3 seconds RetCode: 0 Status: OK CheckDir: iPAC.Rcheck Warnings: 0