Package: iPAC Version: 1.51.0 Command: /Library/Frameworks/R.framework/Resources/bin/R CMD check --install=check:iPAC.install-out.txt --library=/Library/Frameworks/R.framework/Resources/library --no-vignettes --timings iPAC_1.51.0.tar.gz StartedAt: 2025-02-12 21:13:19 -0500 (Wed, 12 Feb 2025) EndedAt: 2025-02-12 21:16:50 -0500 (Wed, 12 Feb 2025) EllapsedTime: 210.4 seconds RetCode: 1 Status: ERROR CheckDir: iPAC.Rcheck Warnings: NA