Package: iPAC Version: 1.51.0 Command: /Library/Frameworks/R.framework/Resources/bin/R CMD INSTALL iPAC StartedAt: 2025-02-12 15:34:54 -0500 (Wed, 12 Feb 2025) EndedAt: 2025-02-12 15:35:13 -0500 (Wed, 12 Feb 2025) EllapsedTime: 19.4 seconds RetCode: 0 Status: OK