Package: iPAC Version: 1.51.0 Command: chmod a+r iPAC -R && E:\biocbuild\bbs-3.21-bioc\R\bin\R.exe CMD build --keep-empty-dirs --no-resave-data iPAC StartedAt: 2025-02-09 19:25:25 -0500 (Sun, 09 Feb 2025) EndedAt: 2025-02-09 19:25:56 -0500 (Sun, 09 Feb 2025) EllapsedTime: 31.4 seconds RetCode: 0 Status: OK PackageFile: iPAC_1.51.0.tar.gz PackageFileSize: 451 KiB